BEGIN:VCALENDAR
VERSION:2.0
CALSCALE:GREGORIAN
METHOD:PUBLISH
X-WR-TIMEZONE:Australia/Sydney
BEGIN:VTIMEZONE
TZID:Australia/Sydney
BEGIN:STANDARD
TZNAME:AEST
END:STANDARD
END:VTIMEZONE
BEGIN:VEVENT
DTSTART;TZID=Australia/Sydney:20190226T084500
DTEND;TZID=Australia/Sydney:20190226T150000
DTSTAMP:20190228T001612
UID:532
SUMMARY:Student Leadership Camp
DESCRIPTION:




Student Leadership Camp- Camp Kulin for Year 6 students


SEQUENCE:0
STATUS:CONFIRMED
TRANSP:OPAQUE
END:VEVENT
END:VCALENDAR